BEGIN:VCALENDAR
VERSION:2.0
PRODID:-//wp-events-plugin.com//7.2.3.1//EN
BEGIN:VEVENT
UID:62@firewalkevents.co.uk
DTSTART:20260704T173000Z
DTEND:20260704T190000Z
DTSTAMP:20260401T103040Z
URL:https://firewalkevents.co.uk/events/britfest
SUMMARY:Feel the Heat: Firewalk Challenge at Brit Fest (Saturday Night)
DESCRIPTION:\n\nStep into your power and onto the embers!\n\nJoin Firewalk 
 Events at Brit Fest for the ultimate challenge of courage\, mindset\, and 
 adrenaline. For just £20\, you’ll walk barefoot across burning embers i
 n front of a roaring crowd — and come out the other side feeling unstopp
 able.\n\nWhether you’re conquering fears\, ticking off the bucket list\,
  or just fancy doing something epic — this is your moment.\n\nWe’ll gu
 ide you through a powerful firewalking experience filled with hype\, minds
 et coaching\, and fire-fuelled fun. This isn’t just an activity… it’
 s a breakthrough.\n\nLimited spaces.\n\nBook now and light up your confide
 nce like never before!\n\n\nFirewalk Event Booking Terms &amp\; Conditions
 \n\nBy purchasing a ticket for the Brit Fest Firewalk Challenge\, you agre
 e to the following:\n\n 	Age Requirement\nAll participants must be 12 year
 s of age or older on the day of the event. Anyone under 18 must be accompa
 nied by a parent or guardian.\n 	Health &amp\; Fitness\nParticipants must 
 be in good physical and mental health. If you have concerns\, please consu
 lt a medical professional before taking part.\n 	Substance Use\nParticipan
 ts must not be under the influence of alcohol or drugs. Anyone suspected o
 f being under the influence will be refused participation without refund.\
 n 	Footwear &amp\; Clothing\nYou will be required to walk barefoot across 
 the fire. Please wear flip flops and comfortable clothing\, also bring spa
 re wipes or towels if you wish to clean your feet at the end. We recommend
  no long trailing trousers or skirts near the fire area.\n 	Waiver &amp\; 
 Disclaimer\nYou will be required to sign a participation waiver on the day
 \, acknowledging the risks and confirming your understanding of the safety
  briefing.  The disclaimer can be found here \, please make sure this is 
 filled out before the event.\n 	Late Arrival\nFirewalks include a mandator
 y safety and mindset briefing. Late arrivals who miss the briefing will no
 t be permitted to walk and no refunds will be issued.\n 	Refunds &amp\; Tr
 ansfers\nTickets are non-refundable but may be transferred to another elig
 ible participant with prior written notice (minimum 48 hours before the ev
 ent).\n 	Right to Refuse Participation\nFirewalk Events reserves the right
  to refuse entry or remove participants from the event if they pose a risk
  to themselves or others\, or do not comply with staff instructions.\n 	Ph
 otography &amp\; Media\nBy attending\, you agree that images or videos of 
 the event may be used for marketing and promotional purposes. Please let u
 s know on arrival if you prefer not to be photographed.\n
ATTACH;FMTTYPE=image/jpeg:https://firewalkevents.co.uk/wp-content/uploads/
 2025/05/ADF050D6-1F8E-4B33-AAA9-51615F8824FB.png
CATEGORIES:Festival Activity,Firewalk
LOCATION:Brit Fest\, Ashley Hall\, Altringham\, United Kingdom
X-APPLE-STRUCTURED-LOCATION;VALUE=URI;X-ADDRESS=Ashley Hall\, Altringham\, 
 United Kingdom;X-APPLE-RADIUS=100;X-TITLE=Brit Fest:geo:0,0
END:VEVENT
END:VCALENDAR