BEGIN:VCALENDAR
VERSION:2.0
PRODID:-//wp-events-plugin.com//7.2.3.1//EN
BEGIN:VEVENT
UID:31@firewalkevents.co.uk
DTSTART:20241129T100000Z
DTEND:20241129T170000Z
DTSTAMP:20241103T085019Z
URL:https://firewalkevents.co.uk/events/drkershawsjingleandmingle
SUMMARY:Dr. Kershaw’s Hospice Jingle & Mingle event – a 9-hole Indoor C
 razy Golf networking experience
DESCRIPTION:We’re so excited for Dr. Kershaw’s Hospice Jingle &amp\; Mi
 ngle event – a 9-hole Indoor Crazy Golf networking experience at Oldham 
 Events Centre!\n\nGather your colleagues\, clients\, or friends for a uniq
 ue\, festive day filled with mini golf fun\, laughter\, and the best holid
 ay spirit. Enjoy pie and peas for lunch\, daft prizes\, and show off your 
 most outlandish festive jumper! Plus\, the bar will be open from lunchtime
 !\n\nDate: 29th November\n\nStart Time: 10 AM\n\n£75 per team of 9 (inclu
 des lunch) / £8.50 individual tickets – groups will be formed for small
 er parties!\n\nDon’t miss this opportunity to support Dr. Kershaw’s Ho
 spice while mingling\, making new connections\, and enjoying a festive day
  out.\n\nEmail fundraising@drkh.org.uk to book your spot!\n\n#BusinessMond
 ay #JingleAndMingle #DrKershawsHospice #NetworkingEvent #FestiveFun #Oldha
 mEvents #SupportLocalCharities #CrazyGolf
ATTACH;FMTTYPE=image/jpeg:https://firewalkevents.co.uk/wp-content/uploads/
 2024/11/Copy-of-Holiday-Hole-in-One_-Dr.-Kershaws-Christmas-Charity-Mini-G
 olf-Day__20240830_100047_0000.png
CATEGORIES:Charity Event,Mini Golf,Networking
LOCATION:Oldham Events Centre\, Boundary Park\, Oldham\, OL2 5BL\, United K
 ingdom
X-APPLE-STRUCTURED-LOCATION;VALUE=URI;X-ADDRESS=Boundary Park\, Oldham\, OL
 2 5BL\, United Kingdom;X-APPLE-RADIUS=100;X-TITLE=Oldham Events Centre:geo
 :0,0
END:VEVENT
END:VCALENDAR