BEGIN:VCALENDAR
VERSION:2.0
PRODID:-//wp-events-plugin.com//7.2.3.1//EN
BEGIN:VEVENT
UID:67@firewalkevents.co.uk
DTSTART:20260723T110000Z
DTEND:20260726T150000Z
DTSTAMP:20260401T112125Z
URL:https://firewalkevents.co.uk/events/rock-oyster-festival-2026-mini-gol
 f
SUMMARY:Rock Oyster Festival 2026 - Mini Golf
DESCRIPTION:This year\, we’re bringing something brand new to Rock Oyster
  Festival… and it’s not your average round of mini golf.\n\nWelcome to
  a fully immersive\, beautifully designed mini golf experience by Firewalk
  Events—created to give festivalgoers a place to play\, laugh\, and make
  memories in between the music\, food\, and atmosphere.\n\nReady to take o
 n the course?\n\nStep into our 9-hole mini golf experience at Rock Oyster 
 Festival—where it’s not just about putting… it’s about the laughs\
 , the competition\, and those “how did you miss that?!” moments.\n\nWh
 ether you’re coming with friends\, family\, or making new connections al
 ong the way\, this is your chance to switch off\, play\, and be part of so
 mething fun right in the heart of the festival.\n\nOur course is designed 
 to be:\n\n 	Fun for all ages\n 	Easy to jump into at any time\n 	Just the 
 right mix of relaxed and competitive\n\nPerfect between acts\, after food\
 , or when you just want to do something different.\n\n9 holes. One winner.
  Bragging rights all weekend.\n\nBook your spot now and don’t miss out.\
 n\n&nbsp\;\n\n* Please note - tickets for the mini golf do not include fes
 tival admittance tickets these must be purchased separately here
ATTACH;FMTTYPE=image/jpeg:https://firewalkevents.co.uk/wp-content/uploads/
 2024/08/IMG_3788-scaled-e1723724850260.jpeg
CATEGORIES:Festival Activity,Mini Golf
END:VEVENT
END:VCALENDAR